Workbook

Sheet 创新创业类
A1: 上海海洋大学本科生创新创业教育实践学分认定汇总表（创新创业类）
A2: 2020-2021学年第一学期
A3: 审核人签名： 教学院长（签名、学院盖章）： 填表日期：
A4: 序号 | B4: 学号 | C4: 姓名 | D4: 认定课程名 | E4: 认定课程号 | F4: 认定学分 | G4: 认定成绩 | H4: 成果内容
H5: 科创项目 | M5: 注册公司
H6: 项目类别 | I6: 级别 | J6: 项目名称 | K6: 项目编号 | L6: 参与情况 | M6: 公司名称 | N6: 注册时间 | O6: 公司类型 | P6: 注册资本
A7: 1 | B7: 1822321 | C7: =VLOOKUP(B7,[1]学生信息!A:B,2,0) -> 王静峰 | D7: 创新创业训练B | E7: CXO1002 | F7: 1 | G7: 85 | H7: 创新创业训练B | I7: 校级 | J7: 船舶压载水50微米以上自动定量采集器 | K7: X201910264086 | L7: 项目成员
A8: 2 | B8: 1823112 | C8: =VLOOKUP(B8,[1]学生信息!A:B,2,0) -> 余小灵 | D8: 创新创业训练B | E8: CXO1002 | F8: 1 | G8: 90 | H8: 创新创业训练B | I8: 校级 | J8: 机动车及行人雾天安全报警 | K8: X201910264140 | L8: 负责人
A9: 3 | B9: 1823115 | C9: =VLOOKUP(B9,[1]学生信息!A:B,2,0) -> 黄程 | D9: 创新创业训练B | E9: CXO1002 | F9: 1 | G9: 85 | H9: 创新创业训 练B | I9: 校级 | J9: 自动剥蟹壳蟹黄分离系统设计 | K9: X201910264130 | L9: 项目成员
A10: 4 | B10: 1825115 | C10: =VLOOKUP(B10,[1]学生信息!A:B,2,0) -> 徐飞扬 | D10: 创新创业训练B | E10: CXO1002 | F10: 1 | G10: 90 | H10: 大学生创新创业训练计划 | I10: 校级 | J10: 人工智能识别鱼类（放过度捕捞）装置 | K10: X201910264139 | L10: 负责人
A11: 5 | B11: 1825112 | C11: =VLOOKUP(B11,[1]学生信息!A:B,2,0) -> 麦恩健 | D11: 创新创业训练B | E11: CXO1002 | F11: 1 | G11: 85 | H11: 大学生创新创业训练计划 | I11: 校级 | J11: 人工智能识别鱼类（放过度捕捞）装置 | K11: X201910264139 | L11: 项目成员
A12: 6 | B12: 1825114 | C12: =VLOOKUP(B12,[1]学生信息!A:B,2,0) -> 杨宝山 | D12: 创新创业训练B | E12: CXO1002 | F12: 1 | G12: 85 | H12: 大学生创新创业训练计划 | I12: 校级 | J12: 集中控温的滴流水循环养殖系统 | K12: X201910264137 | L12: 项目成员
A13: 7 | B13: 1711125 | C13: 沈鲲鹏 | D13: 创新创业训练B | E13: CXO1002 | F13: 1 | G13: 85 | H13: 大学生创新创业训练计划 | I13: 校级 | J13: 人工智能识别鱼类（放过度捕捞）装置 | K13: X201910264139 | L13: 项目成员
A14: 8 | B14: 1827107 | C14: =VLOOKUP(B14,[1]学生信息!A:B,2,0) -> 徐辰耀 | D14: 创新创业训练A | E14: CXO1001 | F14: 2 | G14: 85 | H14: 大学生创新创业训练计划 | I14: 市级 | J14: 智能集群无人船控制平台 | K14: S201910264092 | L14: 项目成员
A15: 9 | B15: 1827207 | C15: =VLOOKUP(B15,[1]学生信息!A:B,2,0) -> 杨子龙 | D15: 创新创业训练A | E15: CXO1001 | F15: 2 | G15: 85 | H15: 大学生创新创业训练计划 | I15: 市级 | J15: 智能集群无人船控制平台 | K15: S201910264092 | L15: 项目成员
A16: 10 | B16: 1728130 | C16: =VLOOKUP(B16,[1]学生信息!A:B,2,0) -> 薄润宇 | D16: 创新创业训练A | E16: CXO1001 | F16: 2 | G16: 90 | H16: 大学生创新创业训练计划 | I16: 市级 | J16: 优厨智能外卖柜 | K16: S201910264101 | L16: 负责人
A17: 11 | B17: 1725126 | C17: =VLOOKUP(B17,[1]学生信息!A:B,2,0) -> 王文开 | D17: 创新创业训练A | E17: cx01001 | F17: 2 | G17: 90 | H17: 大学生创新创业训练计划 | I17: 市级 | J17: 四旋翼小型水下航行器设计 | K17: s201910264108 | L17: 负责人
A18: 12 | B18: 1825116 | C18: =VLOOKUP(B18,[1]学生信息!A:B,2,0) -> 张旋宇 | D18: 创新创业训练B | E18: CXO1002 | F18: 1 | G18: 85 | H18: 大学生创新创业训练计划 | I18: 校级 | J18: 集中控温的滴流水循环养殖系统 | K18: X201910264137 | L18: 项目成员

Sheet 学科竞赛类
A1: 上海海洋大学本科生创新创业教育实践学分认定汇总表（学科竞赛类）
A2: 2020-2021学年第一学期
A3: 审核人签名： 教学院长（签名、学院盖章）： 填表日期：
A4: 序号 | B4: 学号 | C4: 姓名 | D4: 认定课程名 | E4: 认定课程号 | F4: 认定学分 | G4: 认定成绩 | H4: 成果内容
H5: 学科竞赛
H6: 竞赛名称 | I6: 立项级别（国家、市级、校级A/B/C） | J6: 获奖作品/团队名称 | K6: 获奖级别（国家级/省市级/校级） | L6: 获奖等级（特等奖、一等奖、二等奖、三等奖……） | M6: 获奖时间 （年月）
A7: 1 | B7: 1722126 | C7: =VLOOKUP(B7,[1]学生信息!A:B,2,0) -> 韦愈群 | D7: 学科竞赛B | E7: CXO2002 | F7: 2 | G7: 90 | H7: 第十届“上图杯”先进成图技术与创新设计大赛 | I7: 市级A | J7: 我有“七十二变” | K7: 省市级 | L7: 二等奖 | M7: 44136
A8: 2 | B8: 1722118 | C8: =VLOOKUP(B8,[1]学生信息!A:B,2,0) -> 潘俊宇 | D8: 学科竞赛B | E8: CXO2002 | F8: 2 | G8: 90 | H8: 2019年上海市大学生创造杯大赛 | I8: 市级A | J8: 《“路客”快捷餐食机》 | K8: 省市级 | L8: 一等奖 | M8: 43770
A9: 3 | B9: 1925114 | C9: =VLOOKUP(B9,[1]学生信息!A:B,2,0) -> 王贺 | D9: 学科竞赛B | E9: CXO2002 | F9: 2 | G9: 90 | H9: 第十届“上图杯”先进成图技术与创新设计大赛 | I9: 市级A | K9: 省市级 | L9: 个人二等奖 | M9: 44136
A10: 4 | B10: 1822321 | C10: =VLOOKUP(B10,[1]学生信息!A:B,2,0) -> 王静峰 | D10: 学科竞赛C | E10: CXO2003 | F10: 1 | G10: 90 | H10: 上海海洋大学船模动力艇大赛 | I10: 校级A | J10: 勤朴忠实号 | K10: 校级 | L10: 二等奖 | M10: 43770
A11: 5 | B11: 1822321 | C11: =VLOOKUP(B11,[1]学生信息!A:B,2,0) -> 王静峰 | D11: 学科竞赛B | E11: CXO2002 | F11: 2 | G11: 90 | H11: 第十届“上图杯”先进成图技术与创新设计大赛 | I11: 市级A | K11: 省市级 | L11: 二等奖 | M11: 44136
A12: 6 | B12: 1822108 | C12: =VLOOKUP(B12,[1]学生信息!A:B,2,0) -> 常小惠 | D12: 学科竞赛B | E12: CXO2002 | F12: 2 | G12: 90 | H12: 全国三维数字化创新创业大赛 | I12: 国家C | J12: SHOU HOPE | K12: 国家级 | L12: 三等奖 | M12: 43800
A13: 7 | B13: 1922121 | C13: =VLOOKUP(B13,[1]学生信息!A:B,2,0) -> 陈天野 | D13: 学科竞赛B | E13: CXO2002 | F13: 2 | G13: 90 | H13: 第十届“上图杯”先进成图技术与创新设计大赛 | I13: 市级A | K13: 省市级 | L13: 一等奖 | M13: 44136
A14: 8 | B14: 1922301 | C14: =VLOOKUP(B14,[1]学生信息!A:B,2,0) -> 宋悦嘉 | D14: 学科竞赛B | E14: CXO2002 | F14: 2 | G14: 90 | H14: 第十届“上图杯”先进成图技术与创新设计大赛 | I14: 市级A | K14: 省市级 | L14: 个人二等奖 | M14: 44136
A15: 9 | B15: 1827220 | C15: =VLOOKUP(B15,[1]学生信息!A:B,2,0) -> 陈凌轩 | D15: 学科竞赛B | E15: CXO2002 | F15: 2 | G15: 90 | H15: 第十四届iCAN国际大学生创新创业大赛 | I15: 国家C | J15: 《基于机器视觉的抗洪抢险搜救无人船-水下机器人协同装置》 | K15: 省市级 | L15: 三等奖 | M15: 44105
A16: 10 | B16: 1822216 | C16: =VLOOKUP(B16,[1]学生信息!A:B,2,0) -> 赵杨杨 | D16: 学科竞赛B | E16: CX02002 | F16: 2 | G16: 90 | H16: 全国三维数字化创新创业大赛 | I16: 国家C | J16: 《宋越窑茶叶末釉花瓶逆向修复》 | K16: 省市级 | L16: 特等奖 | M16: 43739
A17: 11 | B17: 1828205 | C17: =VLOOKUP(B17,[1]学生信息!A:B,2,0) -> 石海川 | D17: 学科竞赛B | E17: CX02002 | F17: 2 | G17: 90 | H17: 第十四届iCAN国际大学生创新创业大赛 | I17: 国家C | J17: 《带负离子发生器的普通饮水机自动调温装置》 | K17: 省市级 | L17: 二等奖 | M17: 44136
A18: 12 | B18: 1823124 | C18: =VLOOKUP(B18,[1]学生信息!A:B,2,0) -> 潘文涛 | D18: 学科竞赛B | E18: CX02002 | F18: 2 | G18: 90 | H18: 第十四届iCAN国际大学生创新创业大赛 | I18: 国家C | J18: 《带负离子发生器的普通饮水机自动调温装置》 | K18: 省市级 | L18: 二等奖 | M18: 44137
A19: 13 | B19: 1825105 | C19: =VLOOKUP(B19,[1]学生信息!A:B,2,0) -> 殷越 | D19: 学科竞赛C | E19: CX02003 | F19: 1 | G19: 90 | H19: 全国三维数字化创新创业大赛 | I19: 国家级C | J19: 《回转式餐盘清理与回收系统》 | K19: 校级 | L19: 三等奖 | M19: 44075
A20: 14 | B20: 1891444 | C20: =VLOOKUP(B20,[1]学生信息!A:B,2,0) -> 茹逸凡 | D20: 学科竞赛C | E20: CX02003 | F20: 1 | G20: 90 | H20: 全国三维数字化创新创业大赛 | I20: 国家级C | J20: 《基于高校快递终端的自动入柜机器人设计》 | K20: 校级 | L20: 三等奖 | M20: 44075
A21: 15 | B21: 1827201 | C21: =VLOOKUP(B21,[1]学生信息!A:B,2,0) -> 苗嘉澍 | D21: 学科竞赛B | E21: CX02002 | F21: 2 | G21: 90 | H21: 2020TI杯全国大学生电子设计竞赛 | I21: 国家级A | K21: 省市级 | L21: 三等奖 | M21: 43831
A22: 16 | B22: 1922212 | C22: =VLOOKUP(B22,[1]学生信息!A:B,2,0) -> 高沁运 | D22: 学科竞赛B | E22: CX02002 | F22: 2 | G22: 90 | H22: 第十届“上图杯”先进成图技术与创新设计大赛 | I22: 市级A | K22: 省市级 | L22: 二等奖 | M22: 44137
A23: 17 | B23: 1927122 | C23: =VLOOKUP(B23,[1]学生信息!A:B,2,0) -> 李晓康 | D23: 学科竞赛B | E23: CX02002 | F23: 2 | G23: 90 | H23: “蓝桥杯”全国软件和信息技术专业人才大赛 | I23: 国家级C | K23: 省市级 | L23: 一等奖 | M23: 44105
A24: 18 | B24: 1827102 | C24: =VLOOKUP(B24,[1]学生信息!A:B,2,0) -> 汪雨馨 | D24: 学科竞赛B | E24: CX02002 | F24: 2 | G24: 90 | H24: “蓝桥杯”全国软件和信息技术专业人才大赛 | I24: 国家级C | K24: 省市级 | L24: 一等奖 | M24: 44106
A25: 19 | B25: 1827226 | C25: =VLOOKUP(B25,[1]学生信息!A:B,2,0) -> 马帅华 | D25: 学科竞赛B | E25: CX02002 | F25: 2 | G25: 90 | H25: 第十四届iCAN国际大学生创新创业大赛 | I25: 国家级C | J25: 《基于物联网技术的智能无人投饵船》 | K25: 省市级 | L25: 三等奖 | M25: 44105
A26: 20 | B26: 1922118 | C26: =VLOOKUP(B26,[1]学生信息!A:B,2,0) -> 张良 | D26: 学科竞赛B | E26: CX02002 | F26: 2 | G26: 90 | H26: 第十届“上图杯”先进成图技术与创新设计大赛 | I26: 市级A | K26: 省市级 | L26: 二等奖 | M26: 44136
A27: 21 | B27: 1822210 | C27: =VLOOKUP(B27,[1]学生信息!A:B,2,0) -> 丁子涵 | D27: 学科竞赛B | E27: cx02002 | F27: 2 | G27: 90 | H27: 第十届“上图杯”先进成图技术与创新设计大赛 | I27: 市级A | K27: 省市级 | L27: 个人二等奖 | M27: 44136
A28: 22 | B28: 1728109 | C28: 孙敏 | D28: 学科竞赛B | E28: CXO2002 | F28: 2 | G28: 90 | H28: 中国“互联网+”大学生创新创业大赛 | I28: 国家A | J28: 《隐私计算》 | K28: 省市级 | L28: 金奖 | M28: 44075
A29: 23 | B29: 1728122 | C29: 杨志文 | D29: 学科竞赛B | E29: CXO2002 | F29: 2 | G29: 90 | H29: 全国大学生学术英语词汇竞赛 | I29: 国家C | K29: 国家级 | L29: 三等奖 | M29: 43983
A30: 24 | B30: 1825101 | C30: 李美伶 | D30: 学科竞赛B | E30: CX02002 | F30: 2 | G30: 90 | H30: 全国海洋航行器设计与制造大赛 | I30: 国际级C | J30: 《生态共融型水下航行器--柔性仿生鱿鱼》 | K30: 国家级 | L30: 特等奖 | M30: 44044
A31: 25 | B31: 1825101 | C31: 李美伶 | D31: 学科竞赛C | E31: CX02003 | F31: 1 | G31: 90 | H31: 中国“互联网+”大学生创新创业大赛 | I31: 国家级A | J31: 《产学研一体化的人工智能机器鱼研发》 | K31: 校级 | L31: 一等奖 | M31: 44075
A32: 26 | B32: 1728217 | C32: 张国政 | D32: 学科竞赛B | E32: CX02002 | F32: 2 | G32: 90 | H32: 中国“互联网+”大学生创新创业大赛 | I32: 国家级A | J32: 《隐私计算》 | K32: 省市级 | L32: 一等奖 | M32: 44075
A33: 27 | B33: 1728124 | C33: 王金龙 | D33: 学科竞赛B | E33: CX02002 | F33: 2 | G33: 90 | H33: 中国“互联网+”大学生创新创业大赛 | I33: 国家级A | J33: 《隐私计算》 | K33: 省市级 | L33: 一等奖 | M33: 44075
A34: 28 | B34: 1823118 | C34: 杨泰泓 | D34: 学科竞赛B | E34: CX02002 | F34: 2 | G34: 90 | H34: 全国大学生数学建模竞赛 | I34: 国家级A | K34: 省市级 | L34: 二等奖 | M34: 44166
A35: 29 | B35: 1928115 | C35: 张田月 | D35: 学科竞赛B | E35: CX02002 | F35: 2 | G35: 90 | H35: 上海市大学生企业经营模拟沙盘大赛决赛暨区块链技术应用创新大赛 | I35: 市级A | J35: 《区块链技术在鲜活水产品溯源中的创新应用》 | K35: 省市级 | L35: 二等奖 | M35: 44138
A36: 30 | B36: 1928206 | C36: 吴雪红 | D36: 学科竞赛B | E36: CX02002 | F36: 2 | G36: 90 | H36: 上海市大学生企业经营模拟沙盘大赛决赛暨区块链技术应用创新大赛 | I36: 市级A | J36: 《基于区块链上海品牌瓜果价值存证与溯源》 | K36: 省市级 | L36: 三等奖 | M36: 44139
A37: 31 | B37: 1928205 | C37: 顾子怡 | D37: 学科竞赛B | E37: CX02002 | F37: 2 | G37: 90 | H37: 上海市大学生企业经营模拟沙盘大赛决赛暨区块链技术应用创新大赛 | I37: 市级A | J37: 《基于区块链上海品牌瓜果价值存证与溯源》 | K37: 省市级 | L37: 三等奖 | M37: 44140
A38: 32 | B38: 1928203 | C38: 徐佳慧 | D38: 学科竞赛B | E38: CX02002 | F38: 2 | G38: 90 | H38: 上海市大学生企业经营模拟沙盘大赛决赛暨区块链技术应用创新大赛 | I38: 市级A | J38: 《基于区块链上海品牌瓜果价值存证与溯源》 | K38: 省市级 | L38: 三等奖 | M38: 44141
A39: 33 | B39: 1928215 | C39: 叶程约珥 | D39: 学科竞赛B | E39: CX02002 | F39: 2 | G39: 90 | H39: 上海市大学生企业经营模拟沙盘大赛决赛暨区块链技术应用创新大赛 | I39: 市级A | J39: 《区块链技术在鲜活水产品溯源中的创新应用》 | K39: 省市级 | L39: 二等奖 | M39: 44142
A40: 34 | B40: 1928222 | C40: 王永俊 | D40: 学科竞赛B | E40: CX02002 | F40: 2 | G40: 90 | H40: 上海市大学生企业经营模拟沙盘大赛决赛暨区块链技术应用创新大赛 | I40: 市级A | J40: 《区块链技术在鲜活水产品溯源中的创新应用》 | K40: 省市级 | L40: 二等奖 | M40: 44142
A41: 35 | B41: 1728130 | C41: 薄润宇 | D41: 学科竞赛B | E41: CX02002 | F41: 2 | G41: 90 | H41: 中国“互联网+”大学生创新创业大赛 | I41: 国家级A | J41: 《隐私计算》 | K41: 省市级 | L41: 一等奖 | M41: 44075
A42: 36 | B42: 1822309 | C42: 赵宇航 | D42: 学科竞赛C | E42: CX02003 | F42: 1 | G42: 90 | H42: 中国“互联网+”大学生创新创业大赛 | I42: 国家级A | J42: 《辘食自助餐饮冷热一体售卖机》 | K42: 校级 | L42: 二等奖 | M42: 44076
A43: 37 | B43: 1827117 | C43: 汤子良 | D43: 学科竞赛B | E43: cx02002 | F43: 2 | G43: 90 | H43: 2019年全国大学生英语竞赛 | I43: 国家级B | K43: 国家级 | L43: 三等奖 | M43: 43586
A44: 38 | B44: 1823122 | C44: 代文星 | D44: 学科竞赛B | E44: cx02002 | F44: 2 | G44: 90 | H44: 2020年全国大学生英语竞赛 | I44: 国家级B | K44: 国家级 | L44: 一等奖 | M44: 44136
A45: 39 | B45: 1825206 | C45: 武嫣然 | D45: 学科竞赛B | E45: CX02002 | F45: 2 | G45: 90 | H45: 第五届“汇创青春”上海大学生创意作品展示 | I45: 市级A | J45: 《一种货车防撞人装置》 | K45: 省市级 | L45: 三等奖 | M45: 44105
A46: 40 | B46: 1827225 | C46: 袁德胜 | D46: 学科竞赛B | E46: CX02002 | F46: 2 | G46: 90 | H46: MathorCup高校数学建模挑战赛 | I46: 国家级C | K46: 国家级 | L46: 三等奖 | M46: 43983
A47: 41 | B47: 1825122 | C47: 申皓文 | D47: 学科竞赛B | E47: CX02002 | F47: 2 | G47: 90 | H47: 上海市大学生工业工程应用与创新大赛 | I47: 市级B | K47: 省市级 | L47: 三等奖 | M47: 44105
A48: 42 | B48: 1825117 | C48: 朱明辉 | D48: 学科竞赛B | E48: CX02002 | F48: 2 | G48: 90 | H48: 上海市大学生工业工程应用与创新大赛 | I48: 市级B | K48: 省市级 | L48: 三等奖 | M48: 44105
A49: 43 | B49: 1825110 | C49: 马羽滢辛 | D49: 学科竞赛B | E49: cx02002 | F49: 2 | G49: 90 | H49: 第六届“互联网+”大学生创新创业大赛 | I49: 市级A | J49: 《淼鑫科技-镧基固体碱催化剂》 | K49: 省市级 | L49: 三等奖 | M49: 44044
